View In:
ArcGIS JavaScript
ArcGIS Online Map Viewer
ArcGIS Earth
ArcGIS Pro
Service Description: Street map for the Sunshine Coast, QLD Australia based on detailed information sourced from the Sunshine Coast Regional Council. Information displayed outside of the Sunshine Coast region, or at scales above 750,000 is sourced from ESRI via ArcGIS Online web services.
Map Name: StreetMap_SCRC
Legend
All Layers and Tables
Dynamic Legend
Dynamic All Layers
Layers:
Tables:
Description: Street map for the Sunshine Coast, QLD Australia based on detailed information sourced from the Sunshine Coast Regional Council. Information displayed outside of the Sunshine Coast region, or at scales above 750,000 is sourced from ESRI via ArcGIS Online web services.
Service Item Id: efb76cff11a64fb49a1ec2784f4994f7
Copyright Text: (c) Sunshine Coast Regional Council, ESRI, usage in accordance with SCRC Terms and Conditions.
Spatial Reference:
102100
(3857)
LatestVCSWkid(0)
Single Fused Map Cache: true
Tile Info:
- Height: 256.0
- Width: 256.0
- DPI: 96.0
-
Levels of Detail: 23
-
Level ID: 0
[ Start Tile, End Tile ]
- Resolution: 78271.51696399994
- Scale: 2.95828763795777E8
-
Level ID: 1
[ Start Tile, End Tile ]
- Resolution: 39135.75848200009
- Scale: 1.47914381897889E8
-
Level ID: 2
[ Start Tile, End Tile ]
- Resolution: 19567.87924099992
- Scale: 7.3957190948944E7
-
Level ID: 3
[ Start Tile, End Tile ]
- Resolution: 9783.93962049996
- Scale: 3.6978595474472E7
-
Level ID: 4
[ Start Tile, End Tile ]
- Resolution: 4891.96981024998
- Scale: 1.8489297737236E7
- Format: MIXED
- Compression Quality: 75.0
- Origin: X: -2.0037508342787E7
Y: 2.0037508342787E7
- Spatial Reference: 102100
(3857)
LatestVCSWkid(0)
Storage Info:
- Storage Format: esriMapCacheStorageModeCompactV2
- Packet Size: 128
Initial Extent:
XMin: 1.6941411146778006E7
YMin: -3140913.232137188
XMax: 1.7090042923236836E7
YMax: -3027319.0680896067
Spatial Reference: 102100
(0)
LatestVCSWkid(0)
Full Extent:
XMin: 1.6970097019959245E7
YMin: -3121908.7614723183
XMax: 1.7081825493416194E7
YMax: -3051622.0583989117
Spatial Reference: 102100
(0)
LatestVCSWkid(0)
Units: esriMeters
Supported Image Format Types: PNG32,PNG24,PNG,JPG,DIB,TIFF,EMF,PS,PDF,GIF,SVG,SVGZ,BMP
Document Info:
Title: Street Map, Sunshine Coast, QLD Australia
Author:
Comments: Street map for the Sunshine Coast, QLD Australia based on detailed information sourced from the Sunshine Coast Regional Council. Information displayed outside of the Sunshine Coast region, or at scales above 750,000 is sourced from ESRI via ArcGIS Online web services.
Subject: Street map for the Sunshine Coast, QLD Australia based on detailed information sourced from the Sunshine Coast Regional Council.
Category:
Keywords: Australia,Base Map,geoHUB,local government,MyMaps,Property,QLD,Queensland,Sunshine Coast,Sunshine Coast Council
AntialiasingMode: Fast
TextAntialiasingMode: Force
Supports Dynamic Layers: true
Resampling: false
MaxRecordCount: 1000
MaxImageHeight: 4096
MaxImageWidth: 4096
Supported Query Formats: JSON, geoJSON, PBF
Supports Query Data Elements: true
Min Scale: 577790.554289
Max Scale: 141.062147
Min LOD: 8
Max LOD: 21
Supports Datum Transformation: true
Child Resources:
Info
Dynamic Layer
Supported Operations:
Export Map
QueryLegends
QueryDomains
Find
EstimateExportTilesSize
ExportTiles
Return Updates